BEGIN:VCALENDAR
VERSION:2.0
PRODID:-//hacksw/handcal//NONSGML v1.0//EN
BEGIN:VEVENT
SUMMARY:Inter-Clubs Jeunes 
UID:d6fd4cb9-2b08-4dd0-8e1a-13062ac18c2b
DTSTART:20250927T220000Z
DTEND:20250928T220000Z
LOCATION:Stade du Lac de Maine Rue Jules Ladoumegue 49000 Angers
CATEGORIES:Sportif
STATUS:
URL;VALUE=URI:https://www.entente-angevine-athletisme.com/evenements/2025/09/28/inter-clubs-jeunes-2297883
END:VEVENT
END:VCALENDAR
